Workbook

Sheet Izvještaj o izvršenju proračuna
A1: Na temelju čl. 45. Zakona o proračunu ("Narodne novine" br. 144/21), čl. 22. Statuta Općine Šestanovac ("Službeni glasnik" - službeno glasilo Općine Šestanovac 5/21), Općinsko vijeće
A2: Općine Šestanovac na sjednici održanoj 20. srpnja 2026. godine donijelo je
A4: I OPĆI DIO PRORAČUNA
A6: Članak 1.
A7: Proračun Općine Šestanovac ostvaren je kako slijedi:
A9: Sažetak Računa prihoda i rashoda i Računa financiranja
E10: EUR
A11: Račun / opis | B11: Izvorni plan 2026. € | C11: Izvršenje 2026. € | D11: Indeks 2/1
A12: A. RAČUN PRIHODA I RASHODA | B12: 1 | C12: 2 | D12: 3
A13: 6 Prihodi poslovanja | B13: 3348758 | C13: =+'Prihodi i rashodi prema ekonoms'!C7 -> 1002994.1 | D13: =+C13/B13/100 -> 0.0029951226
A14: 7 Prihodi od prodaje nefinancijske imovine | B14: 0 | C14: =+'Prihodi i rashodi prema ekonoms'!C45 -> 1727.19 | D14: 0
A15: UKUPNI PRIHODI | B15: =+B13+B14 -> 3348758 | C15: =+C13+C14 -> 1004721.3 | D15: =+C15/B15/100 -> 0.0030002803
A16: 3 Rashodi poslovanja | B16: 2439165 | C16: =+'Prihodi i rashodi prema ekonoms'!C49 -> 750941.46 | D16: =+C16/B16/100 -> 0.0030786825
A17: 4 Rashodi za nabavu nefinancijske imovine | B17: 1295170 | C17: =+'Prihodi i rashodi prema ekonoms'!C116 -> 139112.82 | D17: =+C17/B17/100 -> 0.0010740893
A18: UKUPNI RASHODI | B18: =+B16+B17 -> 3734335 | C18: =+C16+C17 -> 890054.28 | D18: =+C18/B18/100 -> 0.0023834345
A19: VIŠAK / MANJAK | B19: =+B15-B18 -> -385576.98 | C19: =+C15-C18 -> 114666.99 | D19: =+C19/B19/100 -> -0.0029739065
A20: B. RAČUN FINANCIRANJA
A21: 8 Primici od financijske imovine i zaduživanja | B21: 0 | C21: 0 | D21: 0
A22: 5 Izdaci za financijsku imovinu i otplate zajmova | B22: 0 | C22: 0 | D22: 0
A23: NETO ZADUŽIVANJE | B23: =+B21-B22 -> 0 | C23: =+C21-C22 -> 0 | D23: 0
A25: C. VIŠAK 2025. GODINE | B25: =+B19+B23 -> -385576.98 | C25: =+C19 -> 114666.99
A26: D. UKUPAN VIŠAK IZ PRETHODNE GODINE | B26: 1156730.9 | C26: =+B28 -> 771153.95
A27: E. SMANJENJE VIŠKA PRETHODNE GODINE | B27: =+-B25 -> 385576.98 | C27: 0
A28: F. VIŠAK ZA PRIJENOS I RASPOREĐIVANJE U 2027. G. | B28: =+B26-B27 -> 771153.95 | C28: =+C25+C26 -> 885820.94
A30: Članak 2.
A31: Višak prihoda u iznosu od 29.000,00 € prenosi se u slijedeću godinu a rasporediti će se Izmjenama i dopunama Proračuna
A32: Općine Šestanovac za 2026. godinu po programima, projektima i aktivnostima u 2027. godini.
A33: Članak 3.
A35: Godišnji izvještaj o izvršenju Proračuna Općine Šestanovac za 6 mjeseci 2026. godine sastoji se od:
A37: I OPĆI DIO PRORAČUNA
A38: A. RAČUN PRIHODA I RASHODA
A39: 1. Prihodi i rashodi prema ekonomskoj klasifikaciji
A40: 2. Prihodi i rashodi prema izvorima financiranja
A41: 3. Rashodi prema funkcijskoj klasifikaciji
A42: B. RAČUN FINANCIRANJA
A43: 1. Račun financiranja prema ekonomskoj klasifikaciji
... A63: Šestanovac, 20.7.2026.

Sheet Prihodi i rashodi prema ekonoms
A1: A. RAČUN PRIHODA I RASHODA
A3: 1. Prihodi i rashodi prema ekonomskoj klasifikaciji
A5: Račun / opis | B5: Izvorni plan 2026. € | C5: Izvršenje 2026. € | D5: Indeks 2/1
A6: A. RAČUN PRIHODA I RASHODA | B6: 1 | C6: 2 | D6: 3
A7: 6 Prihodi poslovanja | B7: =+B8+B19+B25+B31+B39+B42 -> 3734335 | C7: =+C8+C19+C25+C31+C39+C42 -> 1002994.1 | D7: =+C7/B7 -> 0.26858707
A8: 61 Prihodi od poreza | B8: 1345500 | C8: =+C9+C14+C17 -> 449565.07 | D8: =+C8/B8 -> 0.33412491
A9: 611 Porez i prirez na dohodak | C9: =+SUM(C10:C13) -> 439684.81 | D9: 0
A10: 6111 Porez i prirez na dohodak od nesamostalnog rada | C10: 373150.42 | D10: 0
A11: 6112 Porez i prirez na dohodak od samostalnih djelatnosti | C11: 40332.33 | D11: 0
A12: 6113 Porez i prirez na dohodak od imovine i imovinskih prava | C12: 16817.26 | D12: 0
A13: 6114 Porez i prirez na dohodak od kapitala | C13: 9384.8 | D13: 0
A14: 613 Porezi na imovinu | C14: =+C15+C16 -> 8302.39 | D14: 0
A15: 6131 Stalni porezi na nepokretnu imovinu (zemlju, zgrade, kuće i ostalo) | C15: 1059.64 | D15: 0
A16: 6134 Povremeni porezi na imovinu | C16: 7242.75 | D16: 0
A17: 614 Porezi na robu i usluge | C17: =+C18 -> 1577.87 | D17: 0
A18: 6142 Porez na promet | C18: 1577.87 | D18: 0
A19: 63 Pomoći iz inozemstva i od subjekata unutar općeg proračuna | B19: 1207925 | C19: =+C20+C23 -> 471701.34 | D19: =+C19/B19 -> 0.39050549
A20: 633 Pomoći proračunu iz drugih proračuna | C20: =+C21+C22 -> 281966.78 | D20: 0
A21: 6331 Tekuće pomoći proračunu iz drugih proračuna | C21: 187608.95 | D21: 0
A22: 6332 Kapitalne pomoći proračunu iz drugih proračuna | C22: 94357.83 | D22: 0
A23: 638 Pomoći proračunu iz EU | C23: =+C24 -> 189734.56 | D23: 0
A24: 6381 Pomoći proračunu iz EU | C24: 189734.56 | D24: 0
A25: 64 Prihodi od imovine | B25: 664520 | C25: =+C26+C28 -> 59052.28 | D25: =+C25/B25 -> 0.088864564
A26: 641 Prihodi od financijske imovine | C26: =+C27 -> 18.84 | D26: 0
A27: 6414 Prihodi od zateznih kamata | C27: 18.84 | D27: 0
A28: 642 Prihodi od nefinancijske imovine | C28: =+SUM(C29:C30) -> 59033.44 | D28: 0
A29: 6423 Naknada za korištenje nefinancijske imovine | C29: 59033.44 | D29: 0
A30: 6429 Ostali prihodi od nefinancijske imovine | C30: 0 | D30: 0
A31: 65 Prihodi od upravnih i administrativnih pristojbi, pristojbi po posebnim propisima i naknada | B31: 415990 | C31: =+C32+C34+C36 -> 6057.22 | D31: =+C31/B31 -> 0.014560975
A32: 651 Upravne i administrativne pristojbe | C32: =+C33 -> 601.73 | D32: 0
A33: 6512 Županijske, gradske i općinske pristojbe i naknade | C33: 601.73 | D33: 0
A34: 652 Prihodi po posebnim propisima | C34: =+C35 -> 30.03 | D34: 0
A35: 6522 Prihodi vodnog gospodarstva | C35: 30.03 | D35: 0
A36: 653 Komunalni doprinosi i naknade | C36: =+C37+C38 -> 5425.46 | D36: 0
A37: 6531 Komunalni doprinosi | C37: 617.84 | D37: 0
A38: 6532 Komunalne naknade | C38: 4807.62 | D38: 0
A39: 66 Prihodi od prodaje proizvoda i robe te pruženih usluga i prihodi od donacija | B39: 100400 | C39: =+C40 -> 540 | D39: =+C39/B39 -> 0.0053784861
A40: 663 Donacije od pravnih i fizičkih osoba izvan općeg proračuna | C40: =+C41 -> 540 | D40: 0
A41: 6631 Tekuće donacije | C41: 540 | D41: 0
A42: 68 Kazne, upravne mjere i ostali prihodi | B42: 0 | C42: =+C43 -> 16078.17 | D42: 1
A43: 683 Ostali prihodi | C43: =+C44 -> 16078.17 | D43: 0
A44: 6831 Ostali prihodi | C44: 16078.17 | D44: 0
A45: 7 Prihodi od prodaje nefinancijske imovine | B45: 0 | C45: =+C46 -> 1727.19 | D45: 0
A46: 72 Prihodi od prodaje proizvedene dugotrajne imovine | B46: =+B45 -> 0 | C46: =+C47 -> 1727.19 | D46: 0
A47: 721 Prihodi od prodaje građevinskih objekata | B47: 0 | C47: =+C48 -> 1727.19 | D47: 0
A48: 7211 Stambeni objekti | B48: 0 | C48: 1727.19 | D48: 0
A49: 3 Rashodi poslovanja | B49: =+B50+B59+B89+B95+B100+B106+B109 -> 2439165 | C49: =+C50+C59+C89+C95+C100+C106+C109 -> 750941.46 | D49: =+C49/B49 -> 0.30786825
A50: 31 Rashodi za zaposlene | B50: 523950.99 | C50: =+C51+C54+C56 -> 247595.93 | D50: =+C50/B50 -> 0.47255552
A51: 311 Plaće (Bruto) | C51: =+C52+C53 -> 142738.66 | D51: 0
A52: 3111 Plaće za redovan rad | C52: 140258.66 | D52: 0
A53: 3112 Plaće u naravi | C53: 2480 | D53: 0
A54: 312 Ostali rashodi za zaposlene | C54: =+C55 -> 20978.78 | D54: 0
A55: 3121 Ostali rashodi za zaposlene | C55: 20978.78 | D55: 0
A56: 313 Doprinosi na plaće | C56: =+C57+C58 -> 83878.49 | D56: 0
A57: 3131 Doprinosi za mirovinsko osiguranje | C57: 36341.38 | D57: 0
A58: 3132 Doprinosi za obvezno zdravstveno osiguranje | C58: 47537.11 | D58: 0
A59: 32 Materijalni rashodi | B59: 1156949 | C59: =+C60+C64+C70+C80+C82 -> 267949.2 | D59: =+C59/B59 -> 0.23159984
A60: 321 Naknade troškova zaposlenima | C60: =+SUM(C61:C63) -> 1420.5 | D60: 0
A61: 3211 Službena putovanja | C61: 45 | D61: 0
A62: 3213 Tečajevi i stručni ispiti | C62: 0 | D62: 0
A63: 3214 Ostale naknade troškova zaposlenima | C63: 1375.5 | D63: 0
A64: 322 Rashodi za materijal i energiju | C64: =+SUM(C65:C69) -> 51897.54 | D64: 0
A65: 3221 Uredski materijal i ostali materijalni rashodi | C65: 12492.65 | D65: 0
A66: 3222 Lijekovi i COVID testovi | C66: 349.33 | D66: 0
A67: 3223 Energija | C67: 23903.86 | D67: 0
A68: 3224 Materijal i dijelovi za tekuće i investicijsko održavanje | C68: 14387.3 | D68: 0
A69: 3227 Službena, radna i zaštitna odjeća i obuća | C69: 764.4 | D69: 0
A70: 323 Rashodi za usluge | C70: =+SUM(C71:C79) -> 191784.12 | D70: 0
A71: 3231 Usluge telefona, pošte i prijevoza | C71: 3519.33 | D71: 0
A72: 3232 Usluge tekućeg i investicijskog održavanja | C72: 73871.94 | D72: 0
A73: 3233 Usluge promidžbe i informiranja | C73: 1993.64 | D73: 0
A74: 3234 Komunalne usluge | C74: 8773.03 | D74: 0
A75: 3235 Ostale zakupnine i najamnine | C75: 1100 | D75: 0
A76: 3236 Zdravstvene i veterinarske usluge | C76: 1525 | D76: 0
A77: 3237 Intelektualne i osobne usluge | C77: 74690.83 | D77: 0
A78: 3238 Računalne usluge | C78: 6368.66 | D78: 0
A79: 3239 Ostale usluge | C79: 19941.69 | D79: 0
A80: 324 Naknade troškova osobama izvan radnog odnosa | C80: =+C81 -> 7755.41 | D80: 0
A81: 3244 Porezi i doprinosi osobama izvan radnog odnosa | C81: 7755.41 | D81: 0
A82: 329 Ostali nespomenuti rashodi poslovanja | C82: =+SUM(C83:C88) -> 15091.63 | D82: 0
A83: 3291 Naknade za rad predstavničkih i izvršnih tijela, povjerenstava i slično | C83: 5225.89 | D83: 0
A84: 3293 Reprezentacija | C84: 2905.2 | D84: 0
A85: 3294 Čanarine i norme | C85: 1944.76 | D85: 0
A86: 3295 Pristojbe i naknade | C86: 5015.78 | D86: 0
A87: 3296 Ovrhe po sudskim sporovima | C87: 0 | D87: 0
A88: 3299 Ostali nespomenuti rashodi poslovanja | C88: 0 | D88: 0
A89: 34 Financijski rashodi | B89: 1050 | C89: =+C90+C92 -> 767.62 | D89: =+C89/B89 -> 0.73106667
A90: 342 Kamate za primljene kredite i zajmove | C90: =+C91 -> 0 | D90: 0
A91: 3421 Kamate za primljene kredite i zajmove od međunarodnih organizacija, institucija i tijela EU te inozemnih vlada | C91: 0 | D91: 0
A92: 343 Ostali financijski rashodi | C92: =+C93+C94 -> 767.62 | D92: 0
A93: 3431 Bankarske usluge i usluge platnog prometa | C93: 767.62 | D93: 0
A94: 3433 Zatezne kamate | C94: 0 | D94: 0
A95: 35 Subvencije | B95: 100400 | C95: =+C96+C98 -> 21627.07 | D95: =+C95/B95 -> 0.21540906
A96: 352 Subvencije trgovačkim društvima, poljoprivrednicima i obrtnicima izvan javnog sektora | C96: =+C97 -> 21627.07 | D96: 0
A97: 3523 Subvencije poljoprivrednicima i obrtnicima | C97: 21627.07 | D97: 0
A98: 353 Subvencije trgovačkim društvima, zadrugama, poljoprivrednicima i obrtnicima iz EU sredstava | C98: =+C99 -> 0 | D98: 0
A99: 3531 Subvencije trgovačkim društvima, zadrugama, poljoprivrednicima i obrtnicima iz EU sredstava | C99: 0 | D99: 0
A100: 36 Pomoći dane u inozemstvo i unutar općeg proračuna | B100: 42000 | C100: =+C101+C104 -> 158821.64 | D100: =+C100/B100 -> 3.7814676
A101: 363 Pomoći unutar općeg proračuna | C101: =+C102+C103 -> 158821.64 | D101: 0
A102: 3631 Tekuće pomoći unutar općeg proračuna | C102: 141988.76 | D102: 0
...

Sheet Račun financiranja ekon izv
A1: B. RAČUN FINANCIRANJA
A3: 1. Račun financiranja prema ekonomskoj klasifikaciji
A5: Racun/Opis | B5: Izvorni plan 2026. € | C5: Izvršenje 2026. € | D5: Indeks 2/1
A6: B. RAČUN ZADUŽIVANJA FINANCIRANJA | B6: 1 | C6: 2 | D6: 3
A7: 8 Primici od financijske imovine i zaduživanja | B7: =+B8 -> 0 | C7: =+C8 -> 0 | D7: -
A8: 81 Primici od povrta zajmova | B8: =+B9 -> 0 | C8: =+C9 -> 0 | D8: -
A9: 814 Povrat zajmova danih trgovačkim društvima u javnom sektoru | B9: =+B10 -> 0 | C9: =+C10 -> 0 | D9: -
A10: 8141 Povrat zajmova danih trgovačkim društvima u javnom sektoru | B10: 0 | C10: 0 | D10: -
A11: 5 Izdaci za financijsku imovinu i otplate zajmova | B11: =+B15 -> 0 | C11: =+C12+C15 -> 0 | D11: -
A12: 51 Izdaci za dane zajmove i depozite | B12: 0 | C12: =+C13 -> 0 | D12: -
A13: 514 Izdaci za dane zajmove trgovačkim društvima u javnom sektoru | B13: 0 | C13: 0 | D13: -
A14: 5141 Izdaci za dane zajmove trgovačkim društvima u javnom sektoru | B14: 0 | C14: 0 | D14: -
A15: 54 Izdaci za otplatu glavnice primljenih kredita i zajmova | B15: =+B16 -> 0 | C15: 0 | D15: -
A16: 542 Otplata glavnice primljenih kredita i zajmova od kreditnih i ostalih financijskih institucija u javnom sektoru | B16: =+B17 -> 0 | C16: 0 | D16: -
A17: 5422 Otplata glavnice primljenih kredita od kreditnih institucija u javnom sektoru | B17: 0 | C17: 0 | D17: -
A18: NETO FINANCIRANJE | B18: =+B7-B11 -> 0 | C18: =+C7-C11 -> 0 | D18: -
A20: 9 Vlastiti izvori | B20: 0 | C20: 0 | D20: -
A21: 92 Rezultat poslovanja | B21: 0 | C21: 0 | D21: -
A22: KORIŠTENJE SREDSTAVA IZ PRETHODNIH GODINA | B22: 0 | C22: =+C21 -> 0 | D22: -

Sheet Prihodi i rashodi prema izvorim
A1: 2. Prihodi i rashodi prema izvorima
A3: Račun / opis | B3: Izvorni plan 2026. € | C3: Izvršenje 2026. € | D3: Indeks 2/1
A4: PRIHODI I RASHODI PREMA IZVORIMA FINANCIRANJA | B4: 1 | C4: 2 | D4: 3
A5: SVEUKUPNI PRIHODI | B5: =+B6+B9+B12+B15+B18 -> 3734335 | C5: =+C6+C9+C12+C15+C18 -> 1004721.3 | D5: =+C5/B5 -> 0.26904958
A6: Izvor 1. OPĆI PRIHODI I PRIMICI | B6: =+B7+B8 -> 2010020 | C6: =+C7+C8 -> 508617.35 | D6: =+C6/B6 -> 0.25304094
A7: Izvor 1.1. Prihodi od poreza, imovine, pristojbi i kazni | B7: 2010020 | C7: =+'Prihodi i rashodi prema ekonoms'!C8 -> 449565.07 | D7: =+C7/B7 -> 0.22366199
A8: Izvor 1.2. Prihodi od imovine, pristojbi i kazni proračunskih korisnika | B8: 0 | C8: =+'Prihodi i rashodi prema ekonoms'!C25 -> 59052.28
A9: Izvor 3. VLASTITI PRIHOD | B9: =+B10+B11 -> 516390 | C9: =+C10+C11 -> 22675.39 | D9: =+C9/B9 -> 0.043911365
A10: Izvor 3.1. Prihodi od upravnih i administrativnih pristojbi | B10: 516390 | C10: =+'Prihodi i rashodi prema ekonoms'!C31 -> 6057.22 | D10: =+C10/B10 -> 0.011729933
A11: Izvor 3.2. Ostali prihodi | B11: 0 | C11: =+'Prihodi i rashodi prema ekonoms'!C39+'Prihodi i rashodi prema ekonoms'!C42 -> 16618.17
A12: Izvor 5. POMOĆI | B12: =+B13+B14 -> 1207925 | C12: =+C13+C14 -> 471701.34 | D12: =+C12/B12 -> 0.39050549
A13: Izvor 5.4. Pomoći iz državnog i županijskog proračuna | B13: 887925 | C13: =+'Prihodi i rashodi prema ekonoms'!C19-C14 -> 281966.78 | D13: =+C13/B13 -> 0.31755698
A14: Izvor 5.6. Sredstva EU fondova | B14: 320000 | C14: =+'Prihodi i rashodi prema ekonoms'!C23 -> 189734.56 | D14: =+C14/B14 -> 0.5929205
A15: Izvor 7. PRIHODI OD PRODAJE ILI ZAMJENE NEFIN. IMOV. I NAKNADE S NASL | B15: =+B16+B17 -> 0 | C15: =+C16+C17 -> 1727.19
A16: Izvor 7.1. Prihodi od imovine | B16: 0 | C16: =+'Prihodi i rashodi prema ekonoms'!C45 -> 1727.19
A17: Izvor 7.2. Prihodi od prodaje proizvedene dugotrajne imovine | B17: 0 | C17: 0
A18: Izvor 8. Primici od financijske imovine i zaduživanja | B18: =+B19 -> 0 | C18: =+C19 -> 0
A19: Izvor 8..1 Primici od financijske imovine i zaduživanja | B19: 0 | C19: =+'Prihodi i rashodi prema ekonoms'!C133 -> 0
A21: SVEUKUPNI RASHODI | B21: =+B22+B25+B28+B31+B34 -> 3734335 | C21: =+C22+C25+C28+C31+C34 -> 890054.28 | D21: =+C21/B21 -> 0.23834345
A22: Izvor 1. OPĆI PRIHODI I PRIMICI | B22: =+B23+B24 -> 2010020 | C22: =+C23+C24 -> 598613.94 | D22: =+C22/B22 -> 0.29781492
A23: Izvor 1.1. Prihodi od poreza, imovine, pristojbi i kazni | B23: =+B7 -> 2010020 | C23: 598613.94 | D23: =+C23/B23 -> 0.29781492
A24: Izvor 1.2. Prihodi od imovine, pristojbi i kazni proračunskih korisnika | B24: =+B8 -> 0 | C24: 0
A25: Izvor 3. VLASTITI PRIHOD | B25: =+B26+B27 -> 516390 | C25: =+C26 -> 96625.37 | D25: =+C25/B25 -> 0.18711704
A26: Izvor 3.1. Prihodi od upravnih i administrativnih pristojbi | B26: =+B10 -> 516390 | C26: 96625.37 | D26: =+C26/B26 -> 0.18711704
A27: Izvor 3.2. Ostali prihodi | B27: =+B11 -> 0 | C27: 0
A28: Izvor 5. POMOĆI | B28: =+B29+B30 -> 1207925 | C28: =+C29+C30 -> 194814.97 | D28: =+C28/B28 -> 0.16128068
A29: Izvor 5.4. Pomoći iz državnog i županijskog proračuna | B29: =+B13 -> 887925 | C29: 13782.97 | D29: =+C29/B29 -> 0.015522674
A30: Izvor 5.6. Sredstva EU fondova | B30: =+B14 -> 320000 | C30: 181032 | D30: =+C30/B30 -> 0.565725
A31: Izvor 7. PRIHODI OD PRODAJE ILI ZAMJENE NEFIN. IMOV. I NAKNADE S NASL | B31: =+B32+B33 -> 0 | C31: =+C32+C33 -> 0
A32: Izvor 7.1. Prihodi od imovine | B32: =+B16 -> 0 | C32: 0
A33: Izvor 7.2. Prihodi od prodaje proizvedene dugotrajne imovine | B33: =+B17 -> 0 | C33: 0
A34: Izvor 8. Primici od financijske imovine i zaduživanja | B34: =+B35 -> 0 | C34: 0
A35: Izvor 8..1 Primici od financijske imovine i zaduživanja | B35: =+B19 -> 0 | C35: 0

Sheet Rashodi prema funkcijskoj klasi
A1: 3. Rashodi prema funkcijskoj klasifikaciji
A3: Račun/Opis | B3: Izvorni plan 2026. € | C3: Izvršenje 2026. € | D3: Indeks 2/1
B4: 1 | C4: 2 | D4: 3
A5: Funkcijska klasifikacija SVEUKUPNI RASHODI | B5: =+B6+B10+B12+B18+B20+B22+B27+B29 -> 3734335 | C5: =+C6+C10+C12+C18+C20+C22+C27+C29 -> 890054.28 | D5: =+C5/B5 -> 0.23834345
A6: FUNKC.KLASIF. 01 - Opće javne usluge | B6: =+SUM(B7:B9) -> 1072370 | C6: =+SUM(C7:C9) -> 428945.02 | D6: =+C6/B6 -> 0.39999722
A7: Funkcijska klasifikacija 011 Redovni rad vijeća | B7: 13500 | C7: 3989.95 | D7: =+C7/B7 -> 0.29555185
A8: Funkcijska klasifikacija 012 Javna uprava i administracija | B8: 701595 | C8: 243923.07 | D8: =+C8/B8 -> 0.34766934
A9: Funkcijska klasifikacija 013 Javni radovi | B9: 357275 | C9: 181032 | D9: =+C9/B9 -> 0.50670212
A10: FUNKC.KLASIF. 03- javni red i sigurnost | B10: =+B11 -> 97020 | C10: =+C11 -> 12614.75 | D10: =+C10/B10 -> 0.13002216
A11: Funkcijska klasifikacija 031 Zaštita i spašavanje | B11: 97020 | C11: 12614.75 | D11: =+C11/B11 -> 0.13002216
A12: FUNKC.KLASIF. 04- Ekonomski poslovi | B12: =+SUM(B13:B17) -> 1485550 | C12: =+SUM(C13:C17) -> 124133.54 | D12: =+C12/B12 -> 0.083560661
A13: Funkcijska klasifikacija 041 Poticanje razvoja gospodarstva | B13: 222900 | C13: =6197.11-2062.5 -> 4134.61 | D13: =+C13/B13 -> 0.01854917
A14: Funkcijska klasifikacija 042 Održavanje objekata i uređenje komunalne infrastrukture | B14: 230000 | C14: =21408.13+2062.5 -> 23470.63 | D14: =+C14/B14 -> 0.10204622
A15: Funkcijska klasifikacija 043 Razvoj i sigurnost prometa | B15: 232350 | C15: 70678.82 | D15: =+C15/B15 -> 0.30419118
A16: Funkcijska klasifikacija 043 Groblja i mrtvačnice | B16: 453050 | C16: =18276.48+4975 -> 23251.48 | D16: =+C16/B16 -> 0.051322106
A17: Funkcijska klasifikacija 044 Vodoopskrba i odvodnja | B17: 347250 | C17: 2598 | D17: =+C17/B17 -> 0.0074816415
A18: FUNKC.KLASIF. 05- Zaštita okoliša | B18: =+B19 -> 162770 | C18: =+C19 -> 25741.25 | D18: =+C18/B18 -> 0.15814493
A19: Funkcijska klasifikacija 051 Zaštite okoliša i životne sredine | B19: 162770 | C19: 25741.25 | D19: =+C19/B19 -> 0.15814493
A20: FUNKC.KLASIF. 06- Unaprjeđenje stanovanja i zajednice | B20: =+B21 -> 140000 | C20: =+C21 -> 20907.33 | D20: =+C20/B20 -> 0.14933807
A21: Funkcijska klasifikacija 061 Prostorno uređenje i unapređenje stanovanja | B21: 140000 | C21: 20907.33 | D21: =+C21/B21 -> 0.14933807
A22: FUNKC.KLASIF. 08-Rekreacija, kultura i religija | B22: =+SUM(B23:B25) -> 251100 | C22: =+SUM(C23:C25) -> 109644.1 | D22: =+C22/B22 -> 0.43665512
A23: Funkcijska klasifikacija 081 Potrebe u kulturi | B23: 144600 | C23: 90451.1 | D23: =+C23/B23 -> 0.62552628
A24: Funkcijska klasifikacija 082 Organizacija rekreacije i športskih aktivnosti | B24: 45000 | C24: 11381 | D24: =+C24/B24 -> 0.25291111
A25: Funkcijska klasifikacija 083 Potpora udrugama i vjerskim zajednicama | B25: 61500 | C25: 7812 | D25: =+C25/B25 -> 0.12702439
A26: Funkcijska klasifikacija 084 Vanškolske aktivnosti | B26: 50000
A27: FUNKC.KLASIF.09- Obrazovanje | B27: =+B28 -> 384650 | C27: =+C28 -> 129608.34 | D27: =+C27/B27 -> 0.33695136
A28: Funkcijska klasifikacija 091 Obrazovanje | B28: 384650 | C28: 129608.34 | D28: =+C28/B28 -> 0.33695136
A29: FUNKC.KLASIF.10- Socijalna zaštita | B29: =+B30 -> 140875 | C29: =+C30 -> 38459.95 | D29: =+C29/B29 -> 0.27300763
A30: Funkcijska klasifikacija 011 Pomoć obiteljima i kućanstvima | B30: 140875 | C30: 38459.95 | D30: =+C30/B30 -> 0.27300763

Sheet Izvršenje po programskoj klasif
F1: OPĆINA ŠESTANOVAC
F3: IZVRŠENJE PO PROGRAMSKOJ KLASIFIKACIJI
A5: IZVOR | G5: Tekući plan 2026 € | H5: Izvršenje 2026 € | I5: Indeks Izvršenje/tekući plan
B7: Razdjel: 001 Vijeće
B8: Glava 00101 Vijeće | G8: 13500 | H8: =+H9 -> 7689.63 | I8: =+H8/G8-1 -> -0.43039778
C9: 1000 Redovni rad vijeća | G9: 13500 | H9: =+H10 -> 7689.63 | I9: =+H9/G9-1 -> -0.43039778
D10: A100001 Redovno rad vijeća | G10: =+G11 -> 13500 | H10: =+H11 -> 7689.63 | I10: =+H10/G10-1 -> -0.43039778
A11: 11 Opći prihodi i primici | E11: 32 | F11: Materijalni rashodi | G11: 13500 | H11: 7689.63 | I11: =+H11/G11-1 -> -0.43039778
B12: Razdjel: 002 Načelnik i uprava
B13: Glava 00201 Načelnik i Upravni odjel | G13: =+G14+G43+G68+G75+G90+G99+G112+G124+G133+G142+G164+G177+G182+G187+G200 -> 3720835 | H13: =+H14+H43+H68+H75+H90+H99+H112+H124+H133+H142+H164+H177+H182+H187+H200 -> 882364.65 | I13: =+H13/G13-1 -> -0.76285843
C14: 1001 Javna uprava i administracija | G14: =+G15+G19+G21+G25+G27+G29+G32+G34+G36+G38+G40+G23 -> 701595 | H14: =+H15+H19+H21+H25+H27+H29+H32+H34+H36+H38+H40+H23 -> 240223.39 | I14: =+H14/G14-1 -> -0.6576039
D15: A100002 Redovno funkcioniranje Općine | G15: =+SUM(G16:G18) -> 275475 | H15: =+SUM(H16:H18) -> 151346.95 | I15: =+H15/G15-1 -> -0.45059642
A16: 11 Opći prihodi i primici | E16: 31 | F16: Rashodi za zaposlene | G16: 181500 | H16: 78408.3 | I16: =+H16/G16-1 -> -0.56799835
A17: 11 Opći prihodi i primici | E17: 32 | F17: Materijalni rashodi | G17: 92925 | H17: 72171.03 | I17: =+H17/G17-1 -> -0.22334108
A18: 11 Opći prihodi i primici | E18: 34 | F18: Financijski rashodi | G18: 1050 | H18: 767.62 | I18: =+H18/G18-1 -> -0.26893333
D19: A100003 Stručno usavršavanje zaposlenika | G19: =+G20 -> 2100 | H19: =+H20 -> 0 | I19: =+H19/G19-1 -> -1
A20: 11 Opći prihodi i primici | E20: 32 | F20: Materijalni rashodi | G20: 2100 | H20: 0 | I20: =+H20/G20-1 -> -1
D21: A100005 Vanjski suradnici | G21: =+G22 -> 60000 | H21: =+H22 -> 9270.55 | I21: =+H21/G21-1 -> -0.84549083
A22: 54 Pomoći za proračunske korisnike | E22: 32 | F22: Materijalni rashodi | G22: 60000 | H22: 9270.55 | I22: =+H22/G22-1 -> -0.84549083
D23: A100060 Ovrha po sudskim sporovima | G23: =+G24 -> 62200 | H23: =+H24 -> 0 | I23: =+H23/G23-1 -> -1
A24: 11 Opći prihodi i primici | E24: 32 | F24: Materijalni rashodi | G24: 62200 | H24: 0 | I24: =+H24/G24-1 -> -1
D25: A100006 Dan općine | G25: =+G26 -> 10000 | H25: =+H26 -> 2585 | I25: =+H25/G25-1 -> -0.7415
A26: 54 Pomoći za proračunske korisnike | E26: 32 | F26: Materijalni rashodi | G26: 10000 | H26: 2585 | I26: =+H26/G26-1 -> -0.7415
D27: K200001 Nabava dugotrajne imovine za općinske prostorije | G27: =+G28 -> 3150 | H27: =+H28 -> 0 | I27: =+H27/G27-1 -> -1
A28: 54 Pomoći za proračunske korisnike | E28: 42 | F28: Rashodi za nabavu proizvedene dugotrajne imovine | G28: 3150 | H28: 0 | I28: =+H28/G28-1 -> -1
D29: A100008 Uređenje općinskih prostora u vlasništvu Općine | G29: =+G30+G31 -> 150000 | H29: =+H30+H31 -> 19413.13 | I29: =+H29/G29-1 -> -0.87057913
A30: 11 Opći prihodi i primici | E30: 32 | F30: Materijalni rashodi | G30: 50000 | H30: 19413.13 | I30: =+H30/G30-1 -> -0.6117374
A31: 71 Prihodi od prodaje nefinancijske imovine; 54 Pomoći za proračunske korisnike | E31: 42 | F31: Rashodi za nabavu proizvedene dugotrajne imovine | G31: 100000 | H31: 0 | I31: =+H31/G31-1 -> -1
D32: A100009 LAG | G32: =+G33 -> 2835 | H32: =+H33 -> 1944.76 | I32: =+H32/G32-1 -> -0.31401764
A33: 31 Vlastiti prihodi | E33: 38 | F33: Ostali rashodi | G33: 2835 | H33: 1944.76 | I33: =+H33/G33-1 -> -0.31401764
D34: A100010 Turistička zajednica | G34: =+G35 -> 66000 | H34: =+H35 -> 45900 | I34: =+H34/G34-1 -> -0.30454545
A35: 11 Opći prihodi i primici | E35: 32 | F35: Materijalni rashodi | G35: 66000 | H35: 45900 | I35: =+H35/G35-1 -> -0.30454545
D36: A100011 Političke stranke | G36: =+G37 -> 2000 | H36: =+H37 -> 0 | I36: =+H36/G36-1 -> -1
A37: 31 Vlastiti prihodi | E37: 38 | F37: Ostali rashodi | G37: 2000 | H37: 0 | I37: =+H37/G37-1 -> -1
D38: A100052 FLAG | G38: =+G39 -> 2835 | H38: =+H39 -> 0 | I38: =+H38/G38-1 -> -1
A39: 31 Vlastiti prihodi | E39: 38 | F39: Ostali rashodi | G39: 2835 | H39: 0 | I39: =+H39/G39-1 -> -1
D40: A100051 Poduzetnički inkubator | G40: =+SUM(G41:G42) -> 65000 | H40: =+SUM(H41:H42) -> 9763 | I40: =+H40/G40-1 -> -0.8498
A41: 11 Opći prihodi i primici | E41: 32 | F41: Materijalni rashodi | G41: 33500 | H41: 9763 | I41: =+H41/G41-1 -> -0.70856716
A42: 11 Opći prihodi i primici | E42: 42 | F42: Rashodi za nabavu proizvedene dugotrajne imovine | G42: 31500 | H42: 0 | I42: =+H42/G42-1 -> -1
C43: 1002 Zaštita i spašavanje | G43: =+G44+G46+G48+G50+G52+G54+G56+G58+G60+G62+G64+G66 -> 97020 | H43: =+H44+H46+H48+H50+H52+H54+H56+H58+H60+H62+H64+H66 -> 12614.75 | I43: =+H43/G43-1 -> -0.86997784
D44: A100012 DVD | G44: =+G45 -> 52500 | H44: =+H45 -> 9739.75 | I44: =+H44/G44-1 -> -0.81448095
A45: 31 Vlastiti prihodi | E45: 38 | F45: Ostali rashodi | G45: 52500 | H45: 9739.75 | I45: =+H45/G45-1 -> -0.81448095
D46: A100013 DVD sezonski vatrogasac | G46: =+G47 -> 5200 | H46: =+H47 -> 0 | I46: =+H46/G46-1 -> -1
A47: 31 Vlastiti prihodi | E47: 38 | F47: Ostali rashodi | G47: 5200 | H47: 0 | I47: =+H47/G47-1 -> -1
D48: A100014 HGSS | G48: =+G49 -> 2100 | H48: =+H49 -> 2000 | I48: =+H48/G48-1 -> -0.047619048
A49: 31 Vlastiti prihodi | E49: 38 | F49: Ostali rashodi | G49: 2100 | H49: 2000 | I49: =+H49/G49-1 -> -0.047619048
D50: A100015 Civilna zaštita | G50: =+G51 -> 2100 | H50: =+H51 -> 0 | I50: =+H50/G50-1 -> -1
A51: 31 Vlastiti prihodi | E51: 38 | F51: Ostali rashodi | G51: 2100 | H51: 0 | I51: =+H51/G51-1 -> -1
D52: A100016 Crveni križ | G52: =+G53 -> 5250 | H52: =+H53 -> 0 | I52: =+H52/G52-1 -> -1
A53: 31 Vlastiti prihodi | E53: 38 | F53: Ostali rashodi | G53: 5250 | H53: 0 | I53: =+H53/G53-1 -> -1
D54: A100017 Ostali sudionici ZiSa | G54: =+G55 -> 735 | H54: =+H55 -> 0 | I54: =+H54/G54-1 -> -1
A55: 31 Vlastiti prihodi | E55: 38 | F55: Ostali rashodi | G55: 735 | H55: 0 | I55: =+H55/G55-1 -> -1
D56: A100018 Službe i djelatnosti kojima je ZiS redovna djelatnost | G56: =+G57 -> 735 | H56: =+H57 -> 0 | I56: =+H56/G56-1 -> -1
A57: 31 Vlastiti prihodi | E57: 38 | F57: Ostali rashodi | G57: 735 | H57: 0 | I57: =+H57/G57-1 -> -1
D58: T200001 Plan zaštite i spašavanja | G58: =+G59 -> 2100 | H58: =+H59 -> 0 | I58: =+H58/G58-1 -> -1
A59: 11 Opći prihodi i primici | E59: 42 | F59: Rashodi za nabavu proizvedene dugotrajne imovine | G59: 2100 | H59: 0 | I59: =+H59/G59-1 -> -1
D60: T200002 Procjena ugroženosti stanovništva i materijalnih dobara | G60: =+G61 -> 2100 | H60: =+H61 -> 0 | I60: =+H60/G60-1 -> -1
A61: 11 Opći prihodi i primici | E61: 42 | F61: Rashodi za nabavu proizvedene dugotrajne imovine | G61: 2100 | H61: 0 | I61: =+H61/G61-1 -> -1
D62: K200003 Procjena ugroženosti od požara | G62: =+G63 -> 2100 | H62: =+H63 -> 0 | I62: =+H62/G62-1 -> -1
A63: 11 Opći prihodi i primici | E63: 42 | F63: Rashodi za nabavu proizvedene dugotrajne imovine | G63: 2100 | H63: 0 | I63: =+H63/G63-1 -> -1
D64: A200004 Katastarski poslovi | G64: =+G65 -> 20000 | H64: =+H65 -> 875 | I64: =+H64/G64-1 -> -0.95625
A65: 11 Opći prihodi i primici | E65: 32 | F65: Materijalni rashodi | G65: 20000 | H65: 875 | I65: =+H65/G65-1 -> -0.95625
D66: K200004 Plan zaštite od požara | G66: =+G67 -> 2100 | H66: =+H67 -> 0 | I66: =+H66/G66-1 -> -1
A67: 11 Opći prihodi i primici | E67: 42 | F67: Rashodi za nabavu proizvedene dugotrajne imovine | G67: 2100 | H67: 0 | I67: =+H67/G67-1 -> -1
C68: 1003 Javni radovi | G68: =+G69+G72 -> 357275 | H68: =+H69+H72 -> 181032 | I68: =+H68/G68-1 -> -0.49329788
D69: A100079 Zapošljavanje - program ZAŽELI | G69: =+SUM(G70:G71) -> 320000 | H69: =+SUM(H70:H71) -> 181032 | I69: =+H69/G69-1 -> -0.434275
A70: 56 Pomoći za proračunske korisnike iz EU - prijenos | E70: 31 | F70: Rashodi za zaposlene | G70: 305700.99 | H70: 169187.63 | I70: =+H70/G70-1 -> -0.44655844
A71: 56 Pomoći za proračunske korisnike iz EU - prijenos | E71: 32 | F71: Materijalni rashodi | G71: 14299.014 | H71: 11844.37 | I71: =+H71/G71-1 -> -0.17166527
D72: A100019 Zapošljavanje - program Javni radovi | G72: =+SUM(G73:G74) -> 37275 | H72: =+SUM(H73:H74) -> 0 | I72: =+H72/G72-1 -> -1
A73: 54 Pomoći za proračunske korisnike | E73: 31 | F73: Rashodi za zaposlene | G73: 36750 | H73: 0 | I73: =+H73/G73-1 -> -1
A74: 54 Pomoći za proračunske korisnike | E74: 32 | F74: Materijalni rashodi | G74: 525 | H74: 0 | I74: =+H74/G74-1 -> -1
C75: 1004 Poticanje razvoja gospodarstva | G75: =+G76+G78+G80+G82+G88+G86+G84 -> 222900 | H75: =+H76+H78+H80+H82+H88+H86+H84 -> 4134.61 | I75: =+H75/G75-1 -> -0.98145083
D76: A100020 Jačanje konkurentnosti poljoprivrednih proizvođača | G76: =+G77 -> 13650 | H76: =+H77 -> 0 | I76: =+H76/G76-1 -> -1
A77: 11 Opći prihodi i primici | E77: 35 | F77: Subvencije | G77: 13650 | H77: 0 | I77: =+H77/G77-1 -> -1
D78: A100056 Poticanje razvoja malog poduzetništva i obrta | G78: =+G79 -> 13650 | H78: =+H79 -> 0 | I78: =+H78/G78-1 -> -1
A79: 31 Vlastiti prihodi | E79: 35 | F79: Subvencije | G79: 13650 | H79: 0 | I79: =+H79/G79-1 -> -1
D80: A100057 Potpora Veterinarskoj stanici u Šestanovcu | G80: =+G81 -> 2100 | H80: =+H81 -> 0 | I80: =+H80/G80-1 -> -1
A81: 31 Vlastiti prihodi | E81: 35 | F81: Subvencije | G81: 2100 | H81: 0 | I81: =+H81/G81-1 -> -1
D82: K200006 Razvoj gospodarske zone i izgradnja | G82: =+G83 -> 100000 | H82: =+H83 -> 0 | I82: =+H82/G82-1 -> -1
A83: 54 Pomoći za proračunske korisnike | E83: 42 | F83: Rashodi za nabavu proizvedene dugotrajne imovine | G83: 100000 | H83: 0 | I83: =+H83/G83-1 -> -1
D84: K200002 Mjerač kvalitete zraka | G84: =+G85 -> 0 | H84: =+H85 -> 0 | I84: =+I85 -> 1
A85: 11 Opći prihodi i primici | E85: 42 | F85: Rashodi za nabavu proizvedene dugotrajne imovine | G85: 0 | H85: 0 | I85: 1
D86: K200097 Električne bicikle | G86: =+G87 -> 20000 | H86: =+H87 -> 4134.61 | I86: =+H86/G86-1 -> -0.7932695
A87: 54 Pomoći za proračunske korisnike | E87: 42 | F87: Rashodi za nabavu proizvedene dugotrajne imovine | G87: 20000 | H87: 4134.61 | I87: =+H87/G87-1 -> -0.7932695
D88: K200007 Razvoj turizma (tematske staze i interaktivne karte) | G88: =+G89 -> 73500 | H88: =+H89 -> 0 | I88: =+H88/G88-1 -> -1
A89: 54 Pomoći za proračunske korisnike | E89: 42 | F89: Rashodi za nabavu proizvedene dugotrajne imovine | G89: 73500 | H89: 0 | I89: =+H89/G89-1 -> -1
C90: 1005 Održavanje objekata i uređenje komunalne infrastrukture | G90: =+G91+G93+G95+G97 -> 230000 | H90: =+H91+H93+H95+H97 -> 23470.63 | I90: =+H90/G90-1 -> -0.89795378
D91: A100021 Održavanje i uređenje javnih površina i igrališta i tržnica | G91: =+G92 -> 157500 | H91: =+H92 -> 23470.63 | I91: =+H91/G91-1 -> -0.85098013
A92: 11 Opći prihodi i primici | E92: 32 | F92: Materijalni rashodi | G92: 157500 | H92: =21408.13+2062.5 -> 23470.63 | I92: =+H92/G92-1 -> -0.85098013
D93: A100022 Sanacija i čišćenje od snijega nerazvrstanih cesta | G93: =+G94 -> 21000 | H93: =+H94 -> 0 | I93: =+H93/G93-1 -> -1
A94: 11 Opći prihodi i primici | E94: 32 | F94: Materijalni rashodi | G94: 21000 | H94: 0 | I94: =+H94/G94-1 -> -1
D95: A100068 Tržnica uređenje | G95: =+G96 -> 31500 | H95: =+H96 -> 0 | I95: =+H95/G95-1 -> -1
A96: 11 Opći prihodi i primici | E96: 32 | F96: Materijalni rashodi | G96: 31500 | H96: 0 | I96: =+H96/G96-1 -> -1
D97: A100067 Sanacija stabala u Kreševo Polju, Katunima, Žeževici i Grabovcu | G97: =+G98 -> 20000 | H97: =+H98 -> 0 | I97: =+H97/G97-1 -> -1
A98: 11 Opći prihodi i primici | E98: 32 | F98: Materijalni rashodi | G98: 20000 | H98: 0 | I98: =+H98/G98-1 -> -1
C99: 1006 Razvoj i sigurnost prometa | G99: =+G100+G104+G106+G108+G110+G102 -> 232350 | H99: =+H100+H104+H106+H108+H110+H102 -> 70678.82 | I99: =+H99/G99-1 -> -0.69580882
D100: A100023 Sanacija nerazvrstanih cesta | G100: =+G101 -> 100000 | H100: =+H101 -> 38428.82 | I100: =+H100/G100-1 -> -0.6157118
A101: 54 Pomoći za proračunske korisnike | E101: 32 | F101: Materijalni rashodi | G101: 100000 | H101: 38428.82 | I101: =+H101/G101-1 -> -0.6157118
D102: A100100 Održavanje nerazvrstanih cesta | G102: =+G103 -> 100000 | H102: =+H103 -> 17275 | I102: =+H102/G102-1 -> -0.82725
A103: 11 Opći prihodi i primici | E103: 32 | F103: Materijalni rashodi | G103: 100000 | H103: 17275 | I103: =+H103/G103-1 -> -0.82725
...

Sheet Izvršenje po organizacijskoj kl
A1: II POSEBNI DIO PRORAČUNA
A3: 1. Izvršenje po organizacijskoj klasifikaciji
A5: RGP | B5: Opis | I5: Izvorni plan 2026. € | J5: Izvršenje 2026. € | K5: Indeks 2/1
I6: 1 | J6: 2 | K6: 3
B7: UKUPNO RASHODI I IZDATCI | I7: =+I8+I10 -> 3734335 | J7: =+J8+J10 -> 890054.28 | K7: =+J7/I7 -> 0.23834345
A8: Razdjel 001 | B8: Vijeće | I8: =+I9 -> 13500 | J8: =+J9 -> 7689.63 | K8: =+J8/I8 -> 0.56960222
A9: Glava 0011 Vijeće | B9: Vijeće | I9: =+'Izvršenje po programskoj klasif'!G8 -> 13500 | J9: =+'Izvršenje po programskoj klasif'!H8 -> 7689.63 | K9: =+J9/I9 -> 0.56960222
A10: Razdjel 002 | B10: Načelnik i Upravni odjel | I10: =+I11 -> 3720835 | J10: =+'Izvršenje po programskoj klasif'!H13 -> 882364.65 | K10: =+J10/I10 -> 0.23714157
A11: Glava 0021 | B11: Načelnik i Upravni odjel | I11: =+'Izvršenje po programskoj klasif'!G13 -> 3720835 | J11: =+'Izvršenje po programskoj klasif'!H13 -> 882364.65 | K11: =+J11/I11 -> 0.23714157
